BEGIN:VCALENDAR
VERSION:2.0
PRODID:-//ChamberMaster//Event Calendar 2.0//EN
METHOD:PUBLISH
X-PUBLISHED-TTL:P3D
REFRESH-INTERVAL:P3D
CALSCALE:GREGORIAN
BEGIN:VEVENT
DTSTART:20090608T153000Z
DTEND:20090608T220000Z
X-MICROSOFT-CDO-ALLDAYEVENT:FALSE
SUMMARY:New Albany Chamber Golf Classic 2009
DESCRIPTION:Annual Golf Classic at the New Albany Country Club. \n\nRegistration and contests begin at 9 a.m.  Co-Award Dinner Sponsors are: New Albany Company and Fifth Third Bank. Golf sponsorships and golf foursomes are available.  The annual golf classic is an annual fundraiser\, helping support it's mission to help promote the success of the business and civid community.\n\n \n\nThank you also to the following companies:\n\nPutting Contest sponsor:  Huntington National Bank\n\nGolf Cart Sponsor:  The Donald Company Realtors\n\nLeader Board Sponsor: Berkeley Park at New Albany\n\nDriving Range Sponsor: Golf Tec
X-ALT-DESC;FMTTYPE=text/html:<div><font size="2"><strong>Annual Golf Classic at the New Albany Country Club.&nbsp\;</strong></font></div>\n\n<div><font size="2"><strong>Registration and contests begin at 9 a.m.&nbsp\; Co-Award Dinner Sponsors are: New Albany Company and Fifth Third Bank. Golf sponsorships and golf foursomes are available.&nbsp\; The annual golf classic is an annual fundraiser\, helping support it&rsquo\;s mission to help promote the success of the business and civid community.</strong></font></div>\n\n<div>&nbsp\;</div>\n\n<div><font size="2"><strong>Thank you also to the following companies:</strong></font></div>\n\n<div><font size="2"><strong>Putting Contest sponsor:&nbsp\; Huntington National Bank</strong></font></div>\n\n<div><font size="2"><strong>Golf Cart Sponsor:&nbsp\; The Donald Company Realtors</strong></font></div>\n\n<div><font size="2"><strong>Leader Board Sponsor: Berkeley Park at New Albany</strong></font></div>\n\n<div><font size="2"><strong>Driving Range Sponsor: Golf Tec</strong></font></div>\n
LOCATION:New Albany Country Club One Club Lane New Albany\, Ohio 43054
UID:e.304.353
SEQUENCE:3
DTSTAMP:20260421T215906Z
URL:https://cm.newalbanychamber.com/events/details/new-albany-chamber-golf-classic-2009-06-08-2009-353
END:VEVENT

END:VCALENDAR
