BEGIN:VCALENDAR
VERSION:2.0
PRODID:-//ChamberMaster//Event Calendar 2.0//EN
METHOD:PUBLISH
X-PUBLISHED-TTL:P3D
REFRESH-INTERVAL:P3D
CALSCALE:GREGORIAN
BEGIN:VEVENT
DTSTART:20100607T130000Z
DTEND:20100607T180000Z
X-MICROSOFT-CDO-ALLDAYEVENT:FALSE
SUMMARY:New Albany Chamber Golf Classic 2010
DESCRIPTION:Annual New Albany Chamber Golf Outing\n\nat the New Albany Country Club
X-ALT-DESC;FMTTYPE=text/html:<div><span style="font-size: small"><strong>Annual New Albany Chamber Golf Outing</strong></span></div>\n\n<div><span style="font-size: small"><strong>at the New Albany Country Club</strong></span></div>\n\n<div>&nbsp\;</div>\n\n<div>&nbsp\;</div>\n
LOCATION:New Albany Country Club One Club Lane New Albany\, Ohio 43054
UID:e.304.611
SEQUENCE:3
DTSTAMP:20260421T045406Z
URL:https://cm.newalbanychamber.com/events/details/new-albany-chamber-golf-classic-2010-06-07-2010-611
END:VEVENT

END:VCALENDAR
