BEGIN:VCALENDAR
VERSION:2.0
PRODID:-//ChamberMaster//Event Calendar 2.0//EN
METHOD:PUBLISH
X-PUBLISHED-TTL:P3D
REFRESH-INTERVAL:P3D
CALSCALE:GREGORIAN
BEGIN:VEVENT
DTSTART:20110606T130000Z
DTEND:20110606T180000Z
X-MICROSOFT-CDO-ALLDAYEVENT:FALSE
SUMMARY:New Albany Chamber Golf Classic 2011
DESCRIPTION:2011 New Albany Chamber Golf Classic\n\nto be held at the New Albany Country Club\n\nMonday\, June 6th\n\n\n\nSponsorships still available.\n\n\n\nAward Ceremony Sponsor:  Fifth Third Bank\n\nBreakfast Sponsor:  Bradyware\n\nCar Hole in One Contest Sponsor:  Liberty Chrysler Dodge & Jeep Dealership\n\nHospitality Sponsor: Telhio Credit Union\n\n\n\nContest Hole Sponsor:\n\nOrganized by Insurance Office of Central Ohio
X-ALT-DESC;FMTTYPE=text/html:<span style="font-size: 14px"><strong>2011 New Albany Chamber Golf Classic<br />\nto be held at the New Albany Country Club<br />\nMonday\, June 6th<br />\n<br />\nSponsorships still available.</strong></span><br />\n<br />\n<span style="font-size: 14px"><em><strong>Award Ceremony Sponsor:&nbsp\; Fifth Third Bank<br />\nBreakfast Sponsor:&nbsp\; Bradyware<br />\nCar Hole in One Contest Sponsor:&nbsp\; Liberty Chrysler Dodge &amp\; Jeep Dealership<br />\nHospitality Sponsor: Telhio Credit Union<br />\n<br />\nContest Hole Sponsor:<br />\nOrganized by Insurance Office of Central Ohio</strong></em></span>
LOCATION:New Albany Country Club One Club Lane New Albany\, Ohio 43054
UID:e.304.783
SEQUENCE:3
DTSTAMP:20260420T083947Z
URL:https://cm.newalbanychamber.com/events/details/new-albany-chamber-golf-classic-2011-06-06-2011-783
END:VEVENT

END:VCALENDAR
