BEGIN:VCALENDAR
VERSION:2.0
PRODID:-//ChamberMaster//Event Calendar 2.0//EN
METHOD:PUBLISH
X-PUBLISHED-TTL:P3D
REFRESH-INTERVAL:P3D
CALSCALE:GREGORIAN
BEGIN:VEVENT
DTSTART:20100502T230000Z
DTEND:20100503T010000Z
X-MICROSOFT-CDO-ALLDAYEVENT:FALSE
SUMMARY:New Albany Community Band Concert
DESCRIPTION:
X-ALT-DESC;FMTTYPE=text/html:
LOCATION:McCoy Center for the Arts
UID:e.304.600
SEQUENCE:3
DTSTAMP:20260421T053543Z
URL:https://cm.newalbanychamber.com/events/details/new-albany-community-band-concert-05-02-2010-600
END:VEVENT

END:VCALENDAR
