BEGIN:VCALENDAR
VERSION:2.0
PRODID:-//ChamberMaster//Event Calendar 2.0//EN
METHOD:PUBLISH
X-PUBLISHED-TTL:P3D
REFRESH-INTERVAL:P3D
CALSCALE:GREGORIAN
BEGIN:VEVENT
DTSTART;VALUE=DATE:20091025
DTEND;VALUE=DATE:20091026
TRANSP:TRANSPARENT
X-MICROSOFT-CDO-ALLDAYEVENT:TRUE
SUMMARY:New Albany Community Band Fall Concert
DESCRIPTION:Join the New Albany Community Band as they kick off their third season with a free public concert featuring the works of Gustav Holst\, Ralph V. Williams\, Andrew Lloyd Webber and much more! This concert will be held on Sunday\, October 25\, at 3:00 pm at the Quest Community Church\, 4877 Central College Road of Westerville\, 43081. For more information call the New Albany Arts Council at 614-775-6222.
X-ALT-DESC;FMTTYPE=text/html:<div>Join the New Albany Community Band as they kick off their third season with a free public concert featuring the works of Gustav Holst\, Ralph V. Williams\, Andrew Lloyd Webber and much more! This concert will be held on Sunday\, October 25\, at 3:00 pm at the&nbsp\;Quest Community Church\, 4877 Central College Road of Westerville\, 43081. For more information call the&nbsp\;New Albany Arts Council at 614-775-6222.</div>
LOCATION:
UID:e.304.528
SEQUENCE:3
DTSTAMP:20260421T173516Z
URL:https://cm.newalbanychamber.com/events/details/new-albany-community-band-fall-concert-10-25-2009-528
END:VEVENT

END:VCALENDAR
