BEGIN:VCALENDAR
VERSION:2.0
PRODID:-//ChamberMaster//Event Calendar 2.0//EN
METHOD:PUBLISH
X-PUBLISHED-TTL:P3D
REFRESH-INTERVAL:P3D
CALSCALE:GREGORIAN
BEGIN:VEVENT
DTSTART;VALUE=DATE:20090914
DTEND;VALUE=DATE:20090915
TRANSP:TRANSPARENT
X-MICROSOFT-CDO-ALLDAYEVENT:TRUE
SUMMARY:New Albany Community Band Rehersals
DESCRIPTION:The New Albany Community Band will begin rehersals for its third season on Monday\, September 14th. Rehersals are weekly from 6:30 until 8pm. The NACB reherses at the New Albany High School in the Band Room\, I-104. NACB will perform a variety of music from marches\, to musical overtures to traditional concert repertoire. They typcially give three to four local performances per year. For more information contact Darren Falk at 614-413-8300 x8395.
X-ALT-DESC;FMTTYPE=text/html:<div>The New Albany Community Band will begin rehersals for its third season on Monday\, September 14th. Rehersals are weekly from 6:30 until 8pm. The NACB reherses at the New Albany High School in the Band Room\, I-104. NACB will perform a variety of music from marches\, to musical overtures to traditional concert repertoire. They typcially give three to four local performances per year. For more information contact Darren Falk at 614-413-8300 x8395.</div>
LOCATION:
UID:e.304.502
SEQUENCE:3
DTSTAMP:20260421T185329Z
URL:https://cm.newalbanychamber.com/events/details/new-albany-community-band-rehersals-09-14-2009-502
END:VEVENT

END:VCALENDAR
