BEGIN:VCALENDAR
VERSION:2.0
PRODID:-//ChamberMaster//Event Calendar 2.0//EN
METHOD:PUBLISH
X-PUBLISHED-TTL:P3D
REFRESH-INTERVAL:P3D
CALSCALE:GREGORIAN
BEGIN:VEVENT
DTSTART;VALUE=DATE:20101001
DTEND;VALUE=DATE:20101003
TRANSP:TRANSPARENT
X-MICROSOFT-CDO-ALLDAYEVENT:TRUE
SUMMARY:New Albany Fallfest 2010
DESCRIPTION:The New Albany Community Events invites you to attend the annual New Albany Fallfest\, held within Market Square. The event will be held on Friday\, October 1\, from 4:00 pm unit 11:30 pm and on Saturday\, October 2\, from 12:00 pm unit 11:00 pm. Admission is free.The Fallfest draws approximately 10\,000 people each year and included activities and entertainment for all ages. There are children's activities\, music\, food\, non-profit groups\, pumpkin recipe contest\, Bier Garten\, Corn Hole Tournament\, Big Ten Football games shown all day\, watch Ohio State vs. Illinois. The Fallfest is held rain or shine unless the weather is deemed hazardous. Questions? Call Ron Kendle at 614-325-6295 or call Jodi Boals at 614-855-0674.
X-ALT-DESC;FMTTYPE=text/html:<div>The New Albany Community Events invites you to attend the annual New Albany Fallfest\, held within Market Square. The event will be held on Friday\, October 1\, from 4:00 pm unit 11:30 pm and on Saturday\, October 2\, from 12:00 pm unit 11:00 pm. Admission is free.</div><div>The Fallfest draws approximately 10\,000 people each year and included activities and entertainment for all ages. There are children's activities\, music\, food\, non-profit groups\, pumpkin recipe contest\, Bier Garten\, Corn Hole Tournament\, Big Ten Football games shown all day\, watch Ohio State vs. Illinois. The Fallfest is held rain or shine unless the weather is deemed hazardous.</div><div>&nbsp\;</div><div>Questions? Call Ron Kendle at 614-325-6295 or call Jodi Boals at 614-855-0674.</div>
LOCATION:
UID:e.304.577
SEQUENCE:3
DTSTAMP:20260420T210606Z
URL:https://cm.newalbanychamber.com/events/details/new-albany-fallfest-2010-10-01-2010-577
END:VEVENT

END:VCALENDAR
