BEGIN:VCALENDAR
VERSION:2.0
PRODID:-//ChamberMaster//Event Calendar 2.0//EN
METHOD:PUBLISH
X-PUBLISHED-TTL:P3D
REFRESH-INTERVAL:P3D
CALSCALE:GREGORIAN
BEGIN:VEVENT
DTSTART;VALUE=DATE:20101002
DTEND;VALUE=DATE:20101003
TRANSP:TRANSPARENT
X-MICROSOFT-CDO-ALLDAYEVENT:TRUE
SUMMARY:New Albany Family Day at Ready Set Grow
DESCRIPTION:Ready Set Grow will be sponsoring the first annual New Albany Family Day.5200 New Albany Rd.New Albany\, Ohio For more information call:  855-5100
X-ALT-DESC;FMTTYPE=text/html:<div>Ready Set Grow will be sponsoring the first annual New Albany Family Day.</div><div>5200 New Albany Rd.</div><div>New Albany\, Ohio</div><div>&nbsp\;</div><div>For more information call:&nbsp\; 855-5100</div>
LOCATION:
UID:e.304.685
SEQUENCE:3
DTSTAMP:20260420T211148Z
URL:https://cm.newalbanychamber.com/events/details/new-albany-family-day-at-ready-set-grow-10-02-2010-685
END:VEVENT

END:VCALENDAR
