BEGIN:VCALENDAR
VERSION:2.0
PRODID:-//ChamberMaster//Event Calendar 2.0//EN
METHOD:PUBLISH
X-PUBLISHED-TTL:P3D
REFRESH-INTERVAL:P3D
CALSCALE:GREGORIAN
BEGIN:VEVENT
DTSTART;VALUE=DATE:20080822
DTEND;VALUE=DATE:20080823
TRANSP:TRANSPARENT
X-MICROSOFT-CDO-ALLDAYEVENT:TRUE
SUMMARY:New Albany Football Game
DESCRIPTION:First New Albany Football game.  Against Westerville North.
X-ALT-DESC;FMTTYPE=text/html:<div>First New Albany Football game.&nbsp\; Against Westerville North.</div>
LOCATION:New Albany High School Stadium
UID:e.304.199
SEQUENCE:3
DTSTAMP:20260422T131505Z
URL:https://cm.newalbanychamber.com/events/details/new-albany-football-game-08-22-2008-199
END:VEVENT

END:VCALENDAR
