BEGIN:VCALENDAR
VERSION:2.0
PRODID:-//ChamberMaster//Event Calendar 2.0//EN
METHOD:PUBLISH
X-PUBLISHED-TTL:P3D
REFRESH-INTERVAL:P3D
CALSCALE:GREGORIAN
BEGIN:VEVENT
DTSTART:20080517T150000Z
DTEND:20080517T210000Z
X-MICROSOFT-CDO-ALLDAYEVENT:FALSE
SUMMARY:New Albany Founders Day Parade & Festival 2008
DESCRIPTION:New Albany Founder's Day Celebration and Parade.  Forms may be downloaded by visiting the website:  www.newalbanyfoundersday.com.
X-ALT-DESC;FMTTYPE=text/html:<div>New Albany Founder&rsquo\;s Day Celebration and Parade.&nbsp\; Forms may be downloaded by visiting the website:&nbsp\; www.newalbanyfoundersday.com.</div>\n
LOCATION:New Albany Elementary School grounds
UID:e.304.183
SEQUENCE:3
DTSTAMP:20260422T175055Z
URL:https://cm.newalbanychamber.com/events/details/new-albany-founders-day-parade-festival-2008-183
END:VEVENT

END:VCALENDAR
