BEGIN:VCALENDAR
VERSION:2.0
PRODID:-//ChamberMaster//Event Calendar 2.0//EN
METHOD:PUBLISH
X-PUBLISHED-TTL:P3D
REFRESH-INTERVAL:P3D
CALSCALE:GREGORIAN
BEGIN:VEVENT
DTSTART;VALUE=DATE:20090516
DTEND;VALUE=DATE:20090517
TRANSP:TRANSPARENT
X-MICROSOFT-CDO-ALLDAYEVENT:TRUE
SUMMARY:New Albany Founders Day Parade & Festival 2009
DESCRIPTION:New Albany Founder's Day\n\nMay 16\, 2009  Save the Date!\n\nParade begins at 11:00\, Festival Runs 12-5\n\nCome out and join the community in Connecting the Fun\n\nFor more information visit www.newalbanyfoundersday.com
X-ALT-DESC;FMTTYPE=text/html:<p>New Albany Founder&#39\;s Day</p>\n\n<p>May 16\, 2009&nbsp\; Save the Date!</p>\n\n<p>Parade begins at 11:00\, Festival Runs 12-5</p>\n\n<p>Come out and join the community in Connecting the Fun</p>\n\n<p>For more information visit <a href="http://www.newalbanyfoundersday.com">www.newalbanyfoundersday.com</a></p>\n
LOCATION:New Albany School Grounds 2-5 Building
UID:e.304.342
SEQUENCE:3
DTSTAMP:20260422T004945Z
URL:https://cm.newalbanychamber.com/events/details/new-albany-founders-day-parade-festival-2009-342
END:VEVENT

END:VCALENDAR
