BEGIN:VCALENDAR
VERSION:2.0
PRODID:-//ChamberMaster//Event Calendar 2.0//EN
METHOD:PUBLISH
X-PUBLISHED-TTL:P3D
REFRESH-INTERVAL:P3D
CALSCALE:GREGORIAN
BEGIN:VEVENT
DTSTART:20100515T150000Z
DTEND:20100515T210000Z
X-MICROSOFT-CDO-ALLDAYEVENT:FALSE
SUMMARY:New Albany Founders Day Parade & Festival 2010
DESCRIPTION:Founders Day 2010\n\nFounders Day Celebration and Parade\n\nParade Line-up: 9:30 a.m.\n\nStart Time:  11:00 a.m.\n\nBusiness\, Commercial\, Elected Officials\, Non-Profits\, Horse drawn entries and walking groups all welcome.
X-ALT-DESC;FMTTYPE=text/html:<div><span style="font-size: x-small"><strong>Founders Day 2010</strong></span></div>\n\n<div><span style="font-size: x-small"><strong>Founders Day Celebration and Parade</strong></span></div>\n\n<div><span style="font-size: x-small"><strong>Parade Line-up: 9:30 a.m.</strong></span></div>\n\n<div><span style="font-size: x-small"><strong>Start Time:&nbsp\; 11:00 a.m.</strong></span></div>\n\n<div><span style="font-size: x-small"><strong>Business\, Commercial\, Elected Officials\, Non-Profits\, Horse drawn entries and walking groups all welcome.</strong></span></div>\n
LOCATION:Parade line-up Church of the Resurrection 9:30 a.m. Step off: 11:00 a.m. Fair: Noon to 5 p.m. New Albany Elementary school grounds
UID:e.304.493
SEQUENCE:3
DTSTAMP:20260421T053604Z
URL:https://cm.newalbanychamber.com/events/details/new-albany-founders-day-parade-festival-2010-493
END:VEVENT

END:VCALENDAR
