BEGIN:VCALENDAR
VERSION:2.0
PRODID:-//ChamberMaster//Event Calendar 2.0//EN
METHOD:PUBLISH
X-PUBLISHED-TTL:P3D
REFRESH-INTERVAL:P3D
CALSCALE:GREGORIAN
BEGIN:VEVENT
DTSTART:20110521T150000Z
DTEND:20110521T210000Z
X-MICROSOFT-CDO-ALLDAYEVENT:FALSE
SUMMARY:New Albany Founders Day Parade & Festival 2011
DESCRIPTION:Please join us for the 35th annual Founders Day Festival to celebrate the founding of the village and Plain Township. Parade\, Rides\, Food\, Music\, Ethel Schleppi Memorial Art Show and Exhibits are among the many activities waiting for you and your family.
X-ALT-DESC;FMTTYPE=text/html:Please join us for the 35th annual Founders Day Festival to celebrate the founding of the village and Plain Township. Parade\, Rides\, Food\, Music\, Ethel Schleppi Memorial Art Show and Exhibits are among the many activities waiting for you and your family.
LOCATION:New Albany 2-5 Elementary School grounds on St Rt 605 in the Village.
UID:e.304.760
SEQUENCE:3
DTSTAMP:20260420T101911Z
URL:https://cm.newalbanychamber.com/events/details/new-albany-founders-day-parade-festival-2011-760
END:VEVENT

END:VCALENDAR
