BEGIN:VCALENDAR
VERSION:2.0
PRODID:-//ChamberMaster//Event Calendar 2.0//EN
METHOD:PUBLISH
X-PUBLISHED-TTL:P3D
REFRESH-INTERVAL:P3D
CALSCALE:GREGORIAN
BEGIN:VEVENT
DTSTART:20250517T150000Z
DTEND:20250517T210000Z
X-MICROSOFT-CDO-ALLDAYEVENT:FALSE
SUMMARY:New Albany Founders Day Parade & Festival
DESCRIPTION:11am Dr. Glyde A. Marsh New Albany Founders Day Parade starts at New Albany Intermediate School and ends at the Church of the Resurrection.\n\n\n\n12pm - 5pm Festival features rides\, games & vendors at Rose Run Park.\n\n\n\n11am-3pm Ealy House Museum Open\, 6359 Dublin-Granville Rd\, New Albany\, OH 43504
X-ALT-DESC;FMTTYPE=text/html:11am Dr. Glyde A. Marsh New Albany Founders Day Parade starts at New Albany Intermediate School and ends at the Church of the Resurrection.<br />\n<br />\n12pm - 5pm Festival features rides\, games &amp\; vendors at Rose Run Park.<br />\n<br />\n11am-3pm Ealy House Museum Open\, 6359 Dublin-Granville Rd\, New Albany\, OH 43504
LOCATION:
UID:e.304.20365
SEQUENCE:3
DTSTAMP:20260420T221510Z
URL:https://cm.newalbanychamber.com/events/details/new-albany-founders-day-parade-festival-20365
END:VEVENT

END:VCALENDAR
