BEGIN:VCALENDAR
VERSION:2.0
PRODID:-//ChamberMaster//Event Calendar 2.0//EN
METHOD:PUBLISH
X-PUBLISHED-TTL:P3D
REFRESH-INTERVAL:P3D
CALSCALE:GREGORIAN
BEGIN:VEVENT
DTSTART;VALUE=DATE:20090531
DTEND;VALUE=DATE:20090601
TRANSP:TRANSPARENT
X-MICROSOFT-CDO-ALLDAYEVENT:TRUE
SUMMARY:New Albany High School Graduation
DESCRIPTION:
X-ALT-DESC;FMTTYPE=text/html:
LOCATION:
UID:e.304.348
SEQUENCE:3
DTSTAMP:20260422T004809Z
URL:https://cm.newalbanychamber.com/events/details/new-albany-high-school-graduation-05-31-2009-348
END:VEVENT

END:VCALENDAR
