BEGIN:VCALENDAR
VERSION:2.0
PRODID:-//ChamberMaster//Event Calendar 2.0//EN
METHOD:PUBLISH
X-PUBLISHED-TTL:P3D
REFRESH-INTERVAL:P3D
CALSCALE:GREGORIAN
BEGIN:VEVENT
DTSTART;VALUE=DATE:20090706
DTEND;VALUE=DATE:20090707
TRANSP:TRANSPARENT
X-MICROSOFT-CDO-ALLDAYEVENT:TRUE
SUMMARY:New Albany Joints Park District Board Meeting at 5:30pm
DESCRIPTION:
X-ALT-DESC;FMTTYPE=text/html:
LOCATION:
UID:e.304.361
SEQUENCE:3
DTSTAMP:20260421T204923Z
URL:https://cm.newalbanychamber.com/events/details/new-albany-joints-park-district-board-meeting-at-5-30pm-07-06-2009-361
END:VEVENT

END:VCALENDAR
