BEGIN:VCALENDAR
VERSION:2.0
PRODID:-//ChamberMaster//Event Calendar 2.0//EN
METHOD:PUBLISH
X-PUBLISHED-TTL:P3D
REFRESH-INTERVAL:P3D
CALSCALE:GREGORIAN
BEGIN:VEVENT
DTSTART:20101024T170000Z
DTEND:20101024T200000Z
X-MICROSOFT-CDO-ALLDAYEVENT:FALSE
SUMMARY:New Albany Realty Home Tour
DESCRIPTION:New Albany Realty Home Tour will open its doors to more than 20 premier New Albany homes.\n\nPlease make your first stop at our Sales office located at 220 Market Street\, Suite D (near Starbucks)\n\nfor a map and list of homes.
X-ALT-DESC;FMTTYPE=text/html:New Albany Realty Home Tour will open its doors to more than 20 premier New Albany homes.<br />\nPlease make your first stop at our Sales office located at 220 Market Street\, Suite D (near Starbucks)<br />\nfor a map and list of homes.
LOCATION:New Albany Realty 220 Market Street Suite D New Albany\, Ohio 43054 Office is located on the first floor.
UID:e.304.717
SEQUENCE:3
DTSTAMP:20260420T210924Z
URL:https://cm.newalbanychamber.com/events/details/new-albany-realty-home-tour-10-24-2010-717
END:VEVENT

END:VCALENDAR
