BEGIN:VCALENDAR
VERSION:2.0
PRODID:-//ChamberMaster//Event Calendar 2.0//EN
METHOD:PUBLISH
X-PUBLISHED-TTL:P3D
REFRESH-INTERVAL:P3D
CALSCALE:GREGORIAN
BEGIN:VEVENT
DTSTART:20110515T170000Z
DTEND:20110515T200000Z
X-MICROSOFT-CDO-ALLDAYEVENT:FALSE
SUMMARY:New Albany Realty-Spring Home Tour
DESCRIPTION:Feel free to stop at our sales office at 220 Market Street\, Suite D for a map and list of homes.\n\nFor more information\, call 614-939-8900.\n\nwww.newalbanyrealty.com
X-ALT-DESC;FMTTYPE=text/html:Feel free to stop at our sales office at 220 Market Street\, Suite D for a map and list of homes.<br />\nFor more information\, call 614-939-8900.<br />\nwww.newalbanyrealty.com<br />\n
LOCATION:
UID:e.304.799
SEQUENCE:3
DTSTAMP:20260420T101634Z
URL:https://cm.newalbanychamber.com/events/details/new-albany-realty-spring-home-tour-05-15-2011-799
END:VEVENT

END:VCALENDAR
