BEGIN:VCALENDAR
VERSION:2.0
PRODID:-//ChamberMaster//Event Calendar 2.0//EN
METHOD:PUBLISH
X-PUBLISHED-TTL:P3D
REFRESH-INTERVAL:P3D
CALSCALE:GREGORIAN
BEGIN:VEVENT
DTSTART:20090504T010000Z
DTEND:20090503T160000Z
X-MICROSOFT-CDO-ALLDAYEVENT:FALSE
SUMMARY:New Albany Symphony 4 Miler
DESCRIPTION:Proceeds to benefit the New Albany Symphony. Pre-registration and packet pick-up: Wednesday\, April 29th-Friday\, May 1stGahanna YMCA555 YMCA PlaceGahanna\, Ohio 5:30-10p.m.
X-ALT-DESC;FMTTYPE=text/html:<div>Proceeds to benefit the New Albany Symphony.</div><div>&nbsp\;</div><div>Pre-registration and packet pick-up: Wednesday\, April 29th-Friday\, May 1st</div><div>Gahanna YMCA</div><div>555 YMCA Place</div><div>Gahanna\, Ohio 5:30-10p.m.</div>
LOCATION:New Albany
UID:e.304.447
SEQUENCE:3
DTSTAMP:20260421T232658Z
URL:https://cm.newalbanychamber.com/events/details/new-albany-symphony-4-miler-05-03-2009-447
END:VEVENT

END:VCALENDAR
