BEGIN:VCALENDAR
VERSION:2.0
PRODID:-//ChamberMaster//Event Calendar 2.0//EN
METHOD:PUBLISH
X-PUBLISHED-TTL:P3D
REFRESH-INTERVAL:P3D
CALSCALE:GREGORIAN
BEGIN:VEVENT
DTSTART;VALUE=DATE:20090908
DTEND;VALUE=DATE:20090909
TRANSP:TRANSPARENT
X-MICROSOFT-CDO-ALLDAYEVENT:TRUE
SUMMARY:New Albany Symphony Audition
DESCRIPTION:
X-ALT-DESC;FMTTYPE=text/html:
LOCATION:Jeanne B. McCoy Center for the ARts
UID:e.304.465
SEQUENCE:3
DTSTAMP:20260421T190149Z
URL:https://cm.newalbanychamber.com/events/details/new-albany-symphony-audition-09-08-2009-465
END:VEVENT

END:VCALENDAR
