BEGIN:VCALENDAR
VERSION:2.0
PRODID:-//ChamberMaster//Event Calendar 2.0//EN
METHOD:PUBLISH
X-PUBLISHED-TTL:P3D
REFRESH-INTERVAL:P3D
CALSCALE:GREGORIAN
BEGIN:VEVENT
DTSTART:20110320T213000Z
DTEND:20110321T013000Z
X-MICROSOFT-CDO-ALLDAYEVENT:FALSE
SUMMARY:New Albany Symphony ''Beethoven's Triple Concerto and Season Finale Gala''
DESCRIPTION:Beethoven's Triple Concerto and Season Gala Finale\n\nMarch 20\, 2011 Gala 5:30 p.m.\, Concert 7:00 p.m.\n\nJeanne B. McCoy Community Center for the Arts\n\nThe New Albany Symphony\n\nLuis O. Biava\, conductor\n\nLuis G. Biava\, conductor & cello\n\nAriane Sletner\, violin\n\nBlanca Uribe\, piano\n\n\n\nLudwig van Beethoven Concerto for Violin\, Cello\, and Piano in C Major\, Op. 56\n\nWolfgang Amadeus Mozart Serenade No. 6 in D Major\, K. 239 (Serenata notturna)\n\nIgor Stravinsky L'Oiseau de feu (The Firebird)\, 1919 Suite\n\n\n\nJoin us for our season finale and be inspired by this triple treat! We welcome to the stage a family of musical talent performing Beethoven's Triple Concerto -- Maestro Luis G. Biava on cello\, his wife Ariane Sletner on violin\, his aunt Blanca Uribe on piano\, and his father Luis O. Biava on the podium.\n\n\n\nLuis O. Biava is internationally renowned as a conductor for his work with symphony orchestras. Professor of Music at Temple University's Boyer College of Music\, he has been Music Director and Conductor of the University's Symphony Orchestra since 1986. Maestro Biava served as conductor in residence emeritus for The Philadelphia Orchestra from 1994-2004\, where he also served as principal second violin for nearly two decades.\n\n\n\nThe concert will culminate with the vibrant and energetic sounds of Stravinsky's Firebird Suite\, an enchanted tale that has delighted generations.\n\n\n\nPrior to the concert\, join us for our Season Gala\, featuring a silent auction\, wine\, and food generously donated by the New Albany Country Club. All proceeds benefit the New Albany Symphony. The concert and gala may be purchased as a package or separately.
X-ALT-DESC;FMTTYPE=text/html:Beethoven&#39\;s Triple Concerto and Season Gala Finale<br />\nMarch 20\, 2011 Gala 5:30 p.m.\, Concert 7:00 p.m.<br />\nJeanne B. McCoy Community Center for the Arts<br />\nThe New Albany Symphony<br />\nLuis O. Biava\, conductor<br />\nLuis G. Biava\, conductor &amp\; cello<br />\nAriane Sletner\, violin<br />\nBlanca Uribe\, piano<br />\n<br />\nLudwig van Beethoven Concerto for Violin\, Cello\, and Piano in C Major\, Op. 56<br />\nWolfgang Amadeus Mozart Serenade No. 6 in D Major\, K. 239 (Serenata notturna)<br />\nIgor Stravinsky L&#39\;Oiseau de feu (The Firebird)\, 1919 Suite<br />\n<br />\nJoin us for our season finale and be inspired by this triple treat! We welcome to the stage a family of musical talent performing Beethoven&#39\;s Triple Concerto -- Maestro Luis G. Biava on cello\, his wife Ariane Sletner on violin\, his aunt Blanca Uribe on piano\, and his father Luis O. Biava on the podium.<br />\n<br />\nLuis O. Biava is internationally renowned as a conductor for his work with symphony orchestras. Professor of Music at Temple University&#39\;s Boyer College of Music\, he has been Music Director and Conductor of the University&#39\;s Symphony Orchestra since 1986. Maestro Biava served as conductor in residence emeritus for The Philadelphia Orchestra from 1994-2004\, where he also served as principal second violin for nearly two decades.<br />\n<br />\nThe concert will culminate with the vibrant and energetic sounds of Stravinsky&#39\;s Firebird Suite\, an enchanted tale that has delighted generations.<br />\n<br />\nPrior to the concert\, join us for our Season Gala\, featuring a silent auction\, wine\, and food generously donated by the New Albany Country Club. All proceeds benefit the New Albany Symphony. The concert and gala may be purchased as a package or separately.<br />\n<br />\n
LOCATION:Jeanne B. McCoy Community Center for the Arts
UID:e.304.668
SEQUENCE:3
DTSTAMP:20260420T131147Z
URL:https://cm.newalbanychamber.com/events/details/new-albany-symphony-beethoven-s-triple-concerto-and-season-finale-gala-03-20-2011-668
END:VEVENT

END:VCALENDAR
