BEGIN:VCALENDAR
VERSION:2.0
PRODID:-//ChamberMaster//Event Calendar 2.0//EN
METHOD:PUBLISH
X-PUBLISHED-TTL:P3D
REFRESH-INTERVAL:P3D
CALSCALE:GREGORIAN
BEGIN:VEVENT
DTSTART:20110213T200000Z
DTEND:20110213T220000Z
X-MICROSOFT-CDO-ALLDAYEVENT:FALSE
SUMMARY:New Albany Symphony ''Carnival of the Animals''
DESCRIPTION:Carnival of the Animals\n\nFebruary 13\, 2011 3:00 PM\n\nJeanne B. McCoy Community Center for the Arts\n\nThe New Albany Symphony\n\nLuis Biava\, conductor\n\nSuzanne Newcomb\, piano\n\nKathleen Sadoff\, piano\n\nTBD\, Student Concerto Competition Winner\n\n\n\nMozart Linz Symphony\, Movt. 1\n\nConcerto TBD\n\nSaint-Saens Le carnaval des animaux (Carnival of the Animals)\n\n\n\nCome one and all to a musical carnival complete with an elephant\, kangaroos\, a dancing turtle and a beautiful swan. Explore the instruments of the orchestra as The New Albany Symphony performs Saint-Sa ns' beloved zoological fantasy\, Carnival of the Animals. Featured in such films as Babe\, Charlotte's Web\, and Walt Disney's Fantasia\, this symphonic masterpiece for two pianos and orchestra is a picturesque joy for all ages. Also featured on this concert is the winner of the 2011 Student Concerto Competition.\n\n\n\nConcert Sponsor : Abbott Nutrition
X-ALT-DESC;FMTTYPE=text/html:Carnival of the Animals<br />\nFebruary 13\, 2011 3:00 PM<br />\nJeanne B. McCoy Community Center for the Arts<br />\nThe New Albany Symphony<br />\nLuis Biava\, conductor<br />\nSuzanne Newcomb\, piano<br />\nKathleen Sadoff\, piano<br />\nTBD\, Student Concerto Competition Winner<br />\n<br />\nMozart Linz Symphony\, Movt. 1<br />\nConcerto TBD<br />\nSaint-Saens Le carnaval des animaux (Carnival of the Animals)<br />\n<br />\nCome one and all to a musical carnival complete with an elephant\, kangaroos\, a dancing turtle and a beautiful swan. Explore the instruments of the orchestra as The New Albany Symphony performs Saint-Sa&euml\;ns&#39\; beloved zoological fantasy\, Carnival of the Animals. Featured in such films as Babe\, Charlotte&#39\;s Web\, and Walt Disney&#39\;s Fantasia\, this symphonic masterpiece for two pianos and orchestra is a picturesque joy for all ages. Also featured on this concert is the winner of the 2011 Student Concerto Competition.<br />\n<br />\nConcert Sponsor&nbsp\;: Abbott Nutrition<br />\n<br />\n
LOCATION:Jeanne B. McCoy Community Center for the Arts
UID:e.304.667
SEQUENCE:3
DTSTAMP:20260420T162651Z
URL:https://cm.newalbanychamber.com/events/details/new-albany-symphony-carnival-of-the-animals-02-13-2011-667
END:VEVENT

END:VCALENDAR
