BEGIN:VCALENDAR
VERSION:2.0
PRODID:-//ChamberMaster//Event Calendar 2.0//EN
METHOD:PUBLISH
X-PUBLISHED-TTL:P3D
REFRESH-INTERVAL:P3D
CALSCALE:GREGORIAN
BEGIN:VEVENT
DTSTART;VALUE=DATE:20091018
DTEND;VALUE=DATE:20091019
TRANSP:TRANSPARENT
X-MICROSOFT-CDO-ALLDAYEVENT:TRUE
SUMMARY:New Albany Symphony Concert ''Bruch\, Beethoven and Bolero''
DESCRIPTION:Join New Albany Symphony in their season opener\, featuring past winner of the prestigious Paganini Competition\, violinist Soovin Kim playing the Bruch Violin Concerto.  Also on the program\, Beethoven 8 and the popular crowd pleaser - Ravel's Bolero.
X-ALT-DESC;FMTTYPE=text/html:Join New Albany Symphony in their season opener\, featuring past winner of the prestigious Paganini Competition\, violinist Soovin Kim playing the Bruch Violin Concerto.  Also on the program\, Beethoven 8 and the popular crowd pleaser - Ravel's Bolero.
LOCATION:Jeanne B. McCoy Center for the Arts
UID:e.304.467
SEQUENCE:3
DTSTAMP:20260421T160555Z
URL:https://cm.newalbanychamber.com/events/details/new-albany-symphony-concert-bruch-beethoven-and-bolero-10-18-2009-467
END:VEVENT

END:VCALENDAR
