BEGIN:VCALENDAR
VERSION:2.0
PRODID:-//ChamberMaster//Event Calendar 2.0//EN
METHOD:PUBLISH
X-PUBLISHED-TTL:P3D
REFRESH-INTERVAL:P3D
CALSCALE:GREGORIAN
BEGIN:VEVENT
DTSTART;VALUE=DATE:20091220
DTEND;VALUE=DATE:20091221
TRANSP:TRANSPARENT
X-MICROSOFT-CDO-ALLDAYEVENT:TRUE
SUMMARY:New Albany Symphony Concert - HOLIDAY SPECTACULAR
DESCRIPTION:Join the New Albany Symphony as they celebrate the season with music that will appeal to all ages! Come early for cookies and hot chocolate and to pick out your "Holiday Gift" in the lobby of the McCoy.
X-ALT-DESC;FMTTYPE=text/html:<div>Join the New Albany Symphony as&nbsp\;they celebrate the season with music that will appeal to all ages! Come early for cookies and hot chocolate and to pick out your &quot\;Holiday Gift&quot\; in the lobby of the McCoy.</div>
LOCATION:Jeanne B. McCoy Community Center for the Arts
UID:e.304.469
SEQUENCE:3
DTSTAMP:20260421T130842Z
URL:https://cm.newalbanychamber.com/events/details/new-albany-symphony-concert-holiday-spectacular-12-20-2009-469
END:VEVENT

END:VCALENDAR
