BEGIN:VCALENDAR
VERSION:2.0
PRODID:-//ChamberMaster//Event Calendar 2.0//EN
METHOD:PUBLISH
X-PUBLISHED-TTL:P3D
REFRESH-INTERVAL:P3D
CALSCALE:GREGORIAN
BEGIN:VEVENT
DTSTART:20101219T200000Z
DTEND:20101219T220000Z
X-MICROSOFT-CDO-ALLDAYEVENT:FALSE
SUMMARY:New Albany Symphony ''Holiday Spectacular''
DESCRIPTION:Holiday Spectacular\n\nDecember 19\, 2010 3:00 PM\n\nJeanne B. McCoy Community Center for the Arts\n\nNew Albany Symphony\n\nLuis Biava\, conductor\n\nDavid Niwa\, violin\n\nSusan Reed\, guest composer\n\nNew Albany Children?s Choir\n\nPickerington Children?s Choir\n\nBroadway Bound Dance Center\n\n\n\nA holiday concert that will have you humming until the New Year!  Plan to arrive early to purchase a Gift Box and participate in all the pre-concert activities for the kids.  We will be collecting cans for Mid-Ohio Food Bank in the lobby prior to the concert.  Please help us support our friends at Mid-Ohio Food Bank this holiday season by bringing a can to the concert!\n\nConcert Sponsor ? Huntington Bank
X-ALT-DESC;FMTTYPE=text/html:Holiday Spectacular\n<br>December 19\, 2010 3:00 PM\n<br>Jeanne B. McCoy Community Center for the Arts\n<br>New Albany Symphony\n<br>Luis Biava\, conductor\n<br>David Niwa\, violin\n<br>Susan Reed\, guest composer\n<br>New Albany Children?s Choir\n<br>Pickerington Children?s Choir\n<br>Broadway Bound Dance Center\n<br>\n<br>A holiday concert that will have you humming until the New Year!  Plan to arrive early to purchase a Gift Box and participate in all the pre-concert activities for the kids.  We will be collecting cans for Mid-Ohio Food Bank in the lobby prior to the concert.  Please help us support our friends at Mid-Ohio Food Bank this holiday season by bringing a can to the concert!\n<br>Concert Sponsor ? Huntington Bank\n<br>\n<br>
LOCATION:Jeanne B. McCoy Community Center for the Arts
UID:e.304.666
SEQUENCE:3
DTSTAMP:20260420T192510Z
URL:https://cm.newalbanychamber.com/events/details/new-albany-symphony-holiday-spectacular-12-19-2010-666
END:VEVENT

END:VCALENDAR
