BEGIN:VCALENDAR
VERSION:2.0
PRODID:-//ChamberMaster//Event Calendar 2.0//EN
METHOD:PUBLISH
X-PUBLISHED-TTL:P3D
REFRESH-INTERVAL:P3D
CALSCALE:GREGORIAN
BEGIN:VEVENT
DTSTART:20101024T190000Z
DTEND:20101024T210000Z
X-MICROSOFT-CDO-ALLDAYEVENT:FALSE
SUMMARY:New Albany Symphony ''Mahler Unplugged''
DESCRIPTION:The New Albany Symphony opens its 2010-2011 concert season under the direction of Maestro Luis Biava.  Internationally-recognized violinist Chee-Yun (www.chee-yun.net) joins the orchestra\, bringing her ?staggering virtuosity and musicality" (American Record Guide) to Prokofiev?s Second Violin Concerto.  Mahler?s titanic Symphony No. 1 in D major rounds out the program for an afternoon of brilliance and enchantment.
X-ALT-DESC;FMTTYPE=text/html:The New Albany Symphony opens its 2010-2011 concert season under the direction of Maestro Luis Biava.  Internationally-recognized violinist Chee-Yun (www.chee-yun.net) joins the orchestra\, bringing her ?staggering virtuosity and musicality" (American Record Guide) to Prokofiev?s Second Violin Concerto.  Mahler?s titanic Symphony No. 1 in D major rounds out the program for an afternoon of brilliance and enchantment.\n<br>\n<br>\n<br>
LOCATION:Jeanne B. McCoy Community Center for the Arts
UID:e.304.665
SEQUENCE:3
DTSTAMP:20260420T225401Z
URL:https://cm.newalbanychamber.com/events/details/new-albany-symphony-mahler-unplugged-10-24-2010-665
END:VEVENT

END:VCALENDAR
