BEGIN:VCALENDAR
VERSION:2.0
PRODID:-//ChamberMaster//Event Calendar 2.0//EN
METHOD:PUBLISH
X-PUBLISHED-TTL:P3D
REFRESH-INTERVAL:P3D
CALSCALE:GREGORIAN
BEGIN:VEVENT
DTSTART;VALUE=DATE:20090322
DTEND;VALUE=DATE:20090323
TRANSP:TRANSPARENT
X-MICROSOFT-CDO-ALLDAYEVENT:TRUE
SUMMARY:New Albany Symphony Orchestra
DESCRIPTION:The New Albany Symphony Orchestra invites you to their Prokofiev's "Peter and the Wolf" retold at the McCoy Center for the Arts\, on Sunday March 22nd\, of 2009. For more information and to purchase tickets in advance call 614-323-1237 or visit their website at www.newalbanysymphony.com.
X-ALT-DESC;FMTTYPE=text/html:<div>The New Albany Symphony Orchestra invites you to their&nbsp\;Prokofiev's &quot\;Peter and the Wolf&quot\; retold at the McCoy&nbsp\;Center for the Arts\,&nbsp\;on&nbsp\;Sunday March 22nd\, of 2009. For more information and to purchase tickets in advance call 614-323-1237 or visit their website at <a href="http://www.newalbanysymphony.com">www.newalbanysymphony.com</a>.</div>
LOCATION:McCoy Center for the Arts100 W. Granville St.New Albany\, Ohio
UID:e.304.332
SEQUENCE:3
DTSTAMP:20260422T022529Z
URL:https://cm.newalbanychamber.com/events/details/new-albany-symphony-orchestra-03-22-2009-332
END:VEVENT

END:VCALENDAR
