BEGIN:VCALENDAR
VERSION:2.0
PRODID:-//ChamberMaster//Event Calendar 2.0//EN
METHOD:PUBLISH
X-PUBLISHED-TTL:P3D
REFRESH-INTERVAL:P3D
CALSCALE:GREGORIAN
BEGIN:VEVENT
DTSTART;VALUE=DATE:20100307
DTEND;VALUE=DATE:20100308
TRANSP:TRANSPARENT
X-MICROSOFT-CDO-ALLDAYEVENT:TRUE
SUMMARY:New Albany Symphony Orchestra Concert
DESCRIPTION:Join the New Albany Symphony Orchestra as they continue their second annual season on Sunday\, March 7\, held at the Jeanne B. McCoy Community Center for the Arts. The Orchestra will be directed under Luis Biava as they bring music to life. For more information call 614-323-1237 or visit www.newalbanysymphony.com.
X-ALT-DESC;FMTTYPE=text/html:<div><div>Join the New Albany Symphony Orchestra as they&nbsp\;continue their second annual season on&nbsp\;Sunday\, March 7\, held at the Jeanne B. McCoy Community Center for the Arts. The Orchestra will be directed under Luis Biava as they bring music to life. For more information call 614-323-1237 or visit <a href="http://www.newalbanysymphony.com/">www.newalbanysymphony.com</a>.</div></div>
LOCATION:
UID:e.304.463
SEQUENCE:3
DTSTAMP:20260421T094245Z
URL:https://cm.newalbanychamber.com/events/details/new-albany-symphony-orchestra-concert-03-07-2010-463
END:VEVENT

END:VCALENDAR
