BEGIN:VCALENDAR
VERSION:2.0
PRODID:-//ChamberMaster//Event Calendar 2.0//EN
METHOD:PUBLISH
X-PUBLISHED-TTL:P3D
REFRESH-INTERVAL:P3D
CALSCALE:GREGORIAN
BEGIN:VEVENT
DTSTART;VALUE=DATE:20090426
DTEND;VALUE=DATE:20090427
TRANSP:TRANSPARENT
X-MICROSOFT-CDO-ALLDAYEVENT:TRUE
SUMMARY:New Albany Symphony Orchestra Concert
DESCRIPTION:The New Albany Symphony Orchestra invites you to their concert featuring their student concierto competition winner on Sunday\, April 26th\, of 2009. For more information or to purchase tickets call 614-323-1237 or visit their website at www.newalbanysymphony.com.
X-ALT-DESC;FMTTYPE=text/html:<div>The New Albany Symphony Orchestra invites you to their concert featuring their student concierto competition winner on Sunday\, April 26th\, of 2009. For more information or to purchase tickets call 614-323-1237 or visit their website at <a href="http://www.newalbanysymphony.com">www.newalbanysymphony.com</a>.</div>
LOCATION:McCoy Center for the Arts100 W. Granville St.New Albany\, Ohio 43054
UID:e.304.333
SEQUENCE:3
DTSTAMP:20260422T022732Z
URL:https://cm.newalbanychamber.com/events/details/new-albany-symphony-orchestra-concert-04-26-2009-333
END:VEVENT

END:VCALENDAR
