BEGIN:VCALENDAR
VERSION:2.0
PRODID:-//ChamberMaster//Event Calendar 2.0//EN
METHOD:PUBLISH
X-PUBLISHED-TTL:P3D
REFRESH-INTERVAL:P3D
CALSCALE:GREGORIAN
BEGIN:VEVENT
DTSTART;VALUE=DATE:20081221
DTEND;VALUE=DATE:20081222
TRANSP:TRANSPARENT
X-MICROSOFT-CDO-ALLDAYEVENT:TRUE
SUMMARY:New Albany Symphony Orchestra Concert
DESCRIPTION:Holiday Concert featuring Columbus Children's Choir\, New Albany Ballet and soloist Heather Spence
X-ALT-DESC;FMTTYPE=text/html:Holiday Concert featuring Columbus Children's Choir\, New Albany Ballet and soloist Heather Spence
LOCATION:Jeanne B. McCoy Community Center
UID:e.304.260
SEQUENCE:3
DTSTAMP:20260422T071007Z
URL:https://cm.newalbanychamber.com/events/details/new-albany-symphony-orchestra-concert-12-21-2008-260
END:VEVENT

END:VCALENDAR
