BEGIN:VCALENDAR
VERSION:2.0
PRODID:-//ChamberMaster//Event Calendar 2.0//EN
METHOD:PUBLISH
X-PUBLISHED-TTL:P3D
REFRESH-INTERVAL:P3D
CALSCALE:GREGORIAN
BEGIN:VEVENT
DTSTART;VALUE=DATE:20081019
DTEND;VALUE=DATE:20081020
TRANSP:TRANSPARENT
X-MICROSOFT-CDO-ALLDAYEVENT:TRUE
SUMMARY:New Albany Symphony Orchestra's Debut
DESCRIPTION:New Albany Symphony Orchestra will debut its first concert on October 19 at the Jeanne B. McCoy Center for the Arts at 3pm. The eight-time Grammy Award Winning Artist\, David Finckel\, who is the cellist of the Emerson String Quartet will be the guest soloist. For more information go to www.newalbanysymphony.com or call 614.323.1237.
X-ALT-DESC;FMTTYPE=text/html:<div>New Albany Symphony Orchestra will debut its first concert on October 19 at the Jeanne B. McCoy Center for the Arts at 3pm. The eight-time Grammy Award Winning Artist\, David Finckel\, who is the cellist of the Emerson String Quartet will be the guest soloist. For more information go to <a href="http://www.newalbanysymphony.com">www.newalbanysymphony.com</a> or call 614.323.1237.</div>
LOCATION:
UID:e.304.262
SEQUENCE:3
DTSTAMP:20260422T114054Z
URL:https://cm.newalbanychamber.com/events/details/new-albany-symphony-orchestra-s-debut-10-19-2008-262
END:VEVENT

END:VCALENDAR
