BEGIN:VCALENDAR
VERSION:2.0
PRODID:-//ChamberMaster//Event Calendar 2.0//EN
METHOD:PUBLISH
X-PUBLISHED-TTL:P3D
REFRESH-INTERVAL:P3D
CALSCALE:GREGORIAN
BEGIN:VEVENT
DTSTART:20100228T003000Z
DTEND:20100228T030000Z
X-MICROSOFT-CDO-ALLDAYEVENT:FALSE
SUMMARY:New Albany Symphony Season Opening Gala
DESCRIPTION:New Albany Symphony Grand Opening-Galacatered by the New Albany Country ClubThe evening will linclude live entertainment provded by the Scott Sadoff Jazz Trio.Silent AuctionFood\, wine and opportunity to meet and mingle with the NASO musicans.Tickets are limited to 100\, no tickets sales at the door.
X-ALT-DESC;FMTTYPE=text/html:<div><strong><span style="font-size: larger">New Albany Symphony Grand Opening-Gala</span></strong></div><div>catered by the New Albany Country Club</div><div>The evening will linclude live entertainment provded by the Scott Sadoff Jazz Trio.</div><div>Silent Auction</div><div>Food\, wine and opportunity to meet and mingle with the NASO musicans.</div><div>Tickets are limited to 100\, no tickets sales at the door.</div>
LOCATION:45 2nd StreetNew Albany\, Ohio 430054
UID:e.304.507
SEQUENCE:3
DTSTAMP:20260421T102631Z
URL:https://cm.newalbanychamber.com/events/details/new-albany-symphony-season-opening-gala-02-27-2010-507
END:VEVENT

END:VCALENDAR
