BEGIN:VCALENDAR
VERSION:2.0
PRODID:-//ChamberMaster//Event Calendar 2.0//EN
METHOD:PUBLISH
X-PUBLISHED-TTL:P3D
REFRESH-INTERVAL:P3D
CALSCALE:GREGORIAN
BEGIN:VEVENT
DTSTART:20100418T190000Z
DTEND:20100418T210000Z
X-MICROSOFT-CDO-ALLDAYEVENT:FALSE
SUMMARY:New Albany Symphony - Springtime in Rome
DESCRIPTION:Join the New Albany Symphony in their season finale concert featuring the winner of their Student Concerto Competition\, A World Premier Composition\, and Respighi's Pines of Rome\, Fountains of Rome.  Meet the composer after the performance in the lobby of the McCoy.
X-ALT-DESC;FMTTYPE=text/html:Join the New Albany Symphony in their season finale concert featuring the winner of their Student Concerto Competition\, A World Premier Composition\, and Respighi's Pines of Rome\, Fountains of Rome.  Meet the composer after the performance in the lobby of the McCoy.
LOCATION:Jeanne B. McCoy Community Center for the Arts
UID:e.304.471
SEQUENCE:3
DTSTAMP:20260421T071830Z
URL:https://cm.newalbanychamber.com/events/details/new-albany-symphony-springtime-in-rome-04-18-2010-471
END:VEVENT

END:VCALENDAR
