BEGIN:VCALENDAR
VERSION:2.0
PRODID:-//ChamberMaster//Event Calendar 2.0//EN
METHOD:PUBLISH
X-PUBLISHED-TTL:P3D
REFRESH-INTERVAL:P3D
CALSCALE:GREGORIAN
BEGIN:VEVENT
DTSTART;VALUE=DATE:20100307
DTEND;VALUE=DATE:20100308
TRANSP:TRANSPARENT
X-MICROSOFT-CDO-ALLDAYEVENT:TRUE
SUMMARY:New Albany Symphony - Vino and Vivaldi
DESCRIPTION:Join New Albany Symphony for an evening of Chamber Music.  Maestro Biava will lead the orchestra in Barber's Adagio for Strings\, the 3rd movement of the Ravel String Quartet\, the last movement of Dvorak's American String Quartet and finish with Vivaldi's Four Seasons featuring 4 of our Professional Mentors as soloists.  We would also like to welcome to the stage local artists\, Karen Rumora and Kirsten Bowen\, who will be painting on stage during the Vivaldi!  Join us one hour prior to the concert for a wine and cheese social in the Lobby of the McCoy.
X-ALT-DESC;FMTTYPE=text/html:Join New Albany Symphony for an evening of Chamber Music.  Maestro Biava will lead the orchestra in Barber's Adagio for Strings\, the 3rd movement of the Ravel String Quartet\, the last movement of Dvorak's American String Quartet and finish with Vivaldi's Four Seasons featuring 4 of our Professional Mentors as soloists.  We would also like to welcome to the stage local artists\, Karen Rumora and Kirsten Bowen\, who will be painting on stage during the Vivaldi!  Join us one hour prior to the concert for a wine and cheese social in the Lobby of the McCoy.
LOCATION:Jeanne B. McCoy Community Center for the Arts
UID:e.304.470
SEQUENCE:3
DTSTAMP:20260421T091245Z
URL:https://cm.newalbanychamber.com/events/details/new-albany-symphony-vino-and-vivaldi-03-07-2010-470
END:VEVENT

END:VCALENDAR
