BEGIN:VCALENDAR
VERSION:2.0
PRODID:-//ChamberMaster//Event Calendar 2.0//EN
METHOD:PUBLISH
X-PUBLISHED-TTL:P3D
REFRESH-INTERVAL:P3D
CALSCALE:GREGORIAN
BEGIN:VEVENT
DTSTART;VALUE=DATE:20090911
DTEND;VALUE=DATE:20090912
TRANSP:TRANSPARENT
X-MICROSOFT-CDO-ALLDAYEVENT:TRUE
SUMMARY:New Albany vs. DeSales Home Game
DESCRIPTION:Join the New Albany High School Football team as they play against DeSales on Friday\, September 11.  The game will be held at the Eagle Stadium beginning at 7:30pm.
X-ALT-DESC;FMTTYPE=text/html:<div>Join the New Albany High School Football team as they play against DeSales&nbsp\;on&nbsp\;Friday\, September 11.&nbsp\;&nbsp\;The&nbsp\;game will be held at the Eagle Stadium&nbsp\;beginning at 7:30pm.</div>
LOCATION:
UID:e.304.499
SEQUENCE:3
DTSTAMP:20260421T173625Z
URL:https://cm.newalbanychamber.com/events/details/new-albany-vs-desales-home-game-09-11-2009-499
END:VEVENT

END:VCALENDAR
