BEGIN:VCALENDAR
VERSION:2.0
PRODID:-//ChamberMaster//Event Calendar 2.0//EN
METHOD:PUBLISH
X-PUBLISHED-TTL:P3D
REFRESH-INTERVAL:P3D
CALSCALE:GREGORIAN
BEGIN:VEVENT
DTSTART;VALUE=DATE:20091023
DTEND;VALUE=DATE:20091024
TRANSP:TRANSPARENT
X-MICROSOFT-CDO-ALLDAYEVENT:TRUE
SUMMARY:New Albany vs. Hayes Home Game
DESCRIPTION:Join the New Albany High School Football team as they play against Hayes on Friday\, October 23.  The game will be held at the Eagle Stadium beginning at 7:30pm.
X-ALT-DESC;FMTTYPE=text/html:<div><div>Join the New Albany High School Football team as they play against&nbsp\;Hayes&nbsp\;on&nbsp\;Friday\,&nbsp\;October 23.&nbsp\;&nbsp\;The&nbsp\;game will be held at the Eagle Stadium&nbsp\;beginning at 7:30pm.</div></div>
LOCATION:
UID:e.304.501
SEQUENCE:3
DTSTAMP:20260421T160200Z
URL:https://cm.newalbanychamber.com/events/details/new-albany-vs-hayes-home-game-10-23-2009-501
END:VEVENT

END:VCALENDAR
