BEGIN:VCALENDAR
VERSION:2.0
PRODID:-//ChamberMaster//Event Calendar 2.0//EN
METHOD:PUBLISH
X-PUBLISHED-TTL:P3D
REFRESH-INTERVAL:P3D
CALSCALE:GREGORIAN
BEGIN:VEVENT
DTSTART;VALUE=DATE:20090925
DTEND;VALUE=DATE:20090926
TRANSP:TRANSPARENT
X-MICROSOFT-CDO-ALLDAYEVENT:TRUE
SUMMARY:New Albany vs. Watkins Memorial Home Game
DESCRIPTION:Join the New Albany High School Football team as they play against Watkins Memorial on Friday\, September 25.  The game will be held at the Eagle Stadium beginning at 7:30pm.
X-ALT-DESC;FMTTYPE=text/html:<div><div>Join the New Albany High School Football team as they play against Watkins&nbsp\;Memorial on&nbsp\;Friday\, September 25.&nbsp\;&nbsp\;The&nbsp\;game will be held at the Eagle Stadium&nbsp\;beginning at 7:30pm.</div></div>
LOCATION:
UID:e.304.500
SEQUENCE:3
DTSTAMP:20260421T173755Z
URL:https://cm.newalbanychamber.com/events/details/new-albany-vs-watkins-memorial-home-game-09-25-2009-500
END:VEVENT

END:VCALENDAR
