BEGIN:VCALENDAR
VERSION:2.0
PRODID:-//ChamberMaster//Event Calendar 2.0//EN
METHOD:PUBLISH
X-PUBLISHED-TTL:P3D
REFRESH-INTERVAL:P3D
CALSCALE:GREGORIAN
BEGIN:VEVENT
DTSTART:20090913T130000Z
DTEND:20090913T160000Z
X-MICROSOFT-CDO-ALLDAYEVENT:FALSE
SUMMARY:New Albany Walking Classic
DESCRIPTION:The New Albany Walking ClassicMarket SquareNew Albany\, Ohio  Packet Pickup:  McCoy Center for the ArtsFriday-September 11th 4-8 p.m.Saturday- September 12th 9 a.m.-5p.m.Sponsored by the Ohio State University Medical Center Health Expo
X-ALT-DESC;FMTTYPE=text/html:<div>The New Albany Walking Classic</div><div>Market Square</div><div>New Albany\, Ohio</div><div>&nbsp\;</div><div>&nbsp\;</div><div>Packet Pickup:&nbsp\; McCoy Center for the Arts</div><div>Friday-September 11th 4-8 p.m.</div><div>Saturday- September 12th 9 a.m.-5p.m.</div><div>Sponsored by the Ohio State University Medical Center Health Expo</div>
LOCATION:Market SquareNew Albany\, Ohio
UID:e.304.487
SEQUENCE:3
DTSTAMP:20260421T173426Z
URL:https://cm.newalbanychamber.com/events/details/new-albany-walking-classic-09-13-2009-487
END:VEVENT

END:VCALENDAR
