BEGIN:VCALENDAR
VERSION:2.0
PRODID:-//ChamberMaster//Event Calendar 2.0//EN
METHOD:PUBLISH
X-PUBLISHED-TTL:P3D
REFRESH-INTERVAL:P3D
CALSCALE:GREGORIAN
BEGIN:VEVENT
DTSTART;VALUE=DATE:20100912
DTEND;VALUE=DATE:20100913
TRANSP:TRANSPARENT
X-MICROSOFT-CDO-ALLDAYEVENT:TRUE
SUMMARY:New Albany Walking Classic of 2010
DESCRIPTION:Come and enjoy the 2010 New Albany Walking Classic on Sunday\, September 13th! For more information visit www.newalbanywalkingclassic.com.
X-ALT-DESC;FMTTYPE=text/html:<div>Come and enjoy the 2010 New Albany Walking Classic on Sunday\, September 13th! For more information visit <a href="http://www.newalbanywalkingclassic.com">www.newalbanywalkingclassic.com</a>.</div>
LOCATION:
UID:e.304.524
SEQUENCE:3
DTSTAMP:20260420T225452Z
URL:https://cm.newalbanychamber.com/events/details/new-albany-walking-classic-of-2010-09-12-2010-524
END:VEVENT

END:VCALENDAR
