BEGIN:VCALENDAR
VERSION:2.0
PRODID:-//ChamberMaster//Event Calendar 2.0//EN
METHOD:PUBLISH
X-PUBLISHED-TTL:P3D
REFRESH-INTERVAL:P3D
CALSCALE:GREGORIAN
BEGIN:VEVENT
DTSTART;VALUE=DATE:20080229
DTEND;VALUE=DATE:20080301
TRANSP:TRANSPARENT
X-MICROSOFT-CDO-ALLDAYEVENT:TRUE
SUMMARY:New Albany Women's Network
DESCRIPTION:February Couple's Social sponsored by the New Albany Women's Network.
X-ALT-DESC;FMTTYPE=text/html:<p>February Couple's Social sponsored by the New Albany Women's Network.</p>
LOCATION:Hayley Gallery45 Second StreetNew Albany\, Ohio 43054
UID:e.304.204
SEQUENCE:3
DTSTAMP:20260424T085305Z
URL:https://cm.newalbanychamber.com/events/details/new-albany-women-s-network-02-29-2008-204
END:VEVENT

END:VCALENDAR
