BEGIN:VCALENDAR
VERSION:2.0
PRODID:-//ChamberMaster//Event Calendar 2.0//EN
METHOD:PUBLISH
X-PUBLISHED-TTL:P3D
REFRESH-INTERVAL:P3D
CALSCALE:GREGORIAN
BEGIN:VEVENT
DTSTART:20110119T233000Z
DTEND:20110120T013000Z
X-MICROSOFT-CDO-ALLDAYEVENT:FALSE
SUMMARY:New Albany Women's Network Annual Open House
DESCRIPTION:Join us to learn how you can become part of NAWN and enjoy the benefits of a strong community!
X-ALT-DESC;FMTTYPE=text/html:Join us to learn how you can become part of NAWN and enjoy the benefits of a strong community!
LOCATION:Lobby Area of The Jeanne B. McCoy Community Center for the Arts
UID:e.304.732
SEQUENCE:3
DTSTAMP:20260420T173328Z
URL:https://cm.newalbanychamber.com/events/details/new-albany-women-s-network-annual-open-house-01-19-2011-732
END:VEVENT

END:VCALENDAR
