BEGIN:VCALENDAR
VERSION:2.0
PRODID:-//ChamberMaster//Event Calendar 2.0//EN
METHOD:PUBLISH
X-PUBLISHED-TTL:P3D
REFRESH-INTERVAL:P3D
CALSCALE:GREGORIAN
BEGIN:VEVENT
DTSTART:20221105T230000Z
DTEND:20221106T030000Z
X-MICROSOFT-CDO-ALLDAYEVENT:FALSE
SUMMARY:New Albany Women's Network Fashion Show
DESCRIPTION:Join NAWN on Saturday\, November 5\, 2022 from 7-11 pm for our Annual Charity Fashion Show!\n\n\n\nThe theme this year is Fire and Ice and proceeds will benefit the women of Sanctuary Night. During the event\, guests will enjoy mingling in the Fire and Ice themed studio rooms before moving into the Runway studio for the fashion show. Fire and Ice inspired evening attire is encouraged! The fashion show will feature several local boutiques and a special ballet inspired collection by local fashion designer\, Genoveva Cristoff. Hair and make up for our models will be provided by GlamHouse.\n\n\n\nAdmission tickets will include your seat along the runway and will grant you access to the Fire and Ice studio rooms\, which will have special decor\, music played by Josh Staley Productions\, and a selection of heavy appetizers created by Chef Jeff of Columbus. There will also be bar areas in the Fire and Ice rooms with drinks available for purchase.\n\n\n\nDon't miss capturing fun memories with friends in the video booth! An online silent auction will be available in the days leading up to and during the event and more information regarding the Cheers for Charity Bottle Pull will be available closer to the event.
X-ALT-DESC;FMTTYPE=text/html:<br />\nJoin NAWN on Saturday\, November 5\, 2022 from 7-11 pm for our Annual Charity Fashion Show!<br />\n<br />\nThe theme this year is Fire and Ice and proceeds will benefit the women of Sanctuary Night. During the event\, guests will enjoy mingling in the Fire and Ice themed studio rooms before moving into the Runway studio for the fashion show. Fire and Ice inspired evening attire is encouraged! The fashion show will feature several local boutiques and a special ballet inspired collection by local fashion designer\, Genoveva Cristoff. Hair and make up for our models will be provided by GlamHouse.<br />\n<br />\nAdmission tickets will include your seat along the runway and will grant you access to the Fire and Ice studio rooms\, which will have special decor\, music played by Josh Staley Productions\, and a selection of heavy appetizers created by Chef Jeff of Columbus. There will also be bar areas in the Fire and Ice rooms with drinks available for purchase.<br />\n<br />\nDon&#39\;t miss capturing fun memories with friends in the video booth! An online silent auction will be available in the days leading up to and during the event and more information regarding the Cheers for Charity Bottle Pull will be available closer to the event.
LOCATION:New Albany Ballet Company
UID:e.304.17110
SEQUENCE:3
DTSTAMP:20260421T104115Z
URL:https://cm.newalbanychamber.com/events/details/new-albany-women-s-network-fashion-show-17110
END:VEVENT

END:VCALENDAR
