BEGIN:VCALENDAR
VERSION:2.0
PRODID:-//ChamberMaster//Event Calendar 2.0//EN
METHOD:PUBLISH
X-PUBLISHED-TTL:P3D
REFRESH-INTERVAL:P3D
CALSCALE:GREGORIAN
BEGIN:VEVENT
DTSTART:20100429T124500Z
DTEND:20100429T153000Z
X-MICROSOFT-CDO-ALLDAYEVENT:FALSE
SUMMARY:New Economy Seminar Series: April 29
DESCRIPTION:We've all had to adjust our business--possibly reinvent our business-- to accommodate the dramatic shift in our economy in the past year and a half. Some have found new opportunities\; some have created new opportunities. Many are restructuring and learning to do more with less. One thing is for sure\, everyone is approaching business with more scrutiny and focus than in recent years.\n\n\n\nIn this four-part seminar series\, expert presenters will explain what the new economy is and how it affects business in Central Ohio. We'll take it a step farther with sessions on trends and opportunities and then help you develop a strategy and adapt your leadership style to better position your company for success.\n\n\n\nApril 29\n\n8:45 to 10:00am - STRATEGY - Presented by: Brian Newberry\, Northlich\n\nThe game has changed and savvy business people know that what worked in the past won't get the same results in 2010 and beyond. This workshop will help attendees identify and create effective strategies for success in the new economy.\n\n\n\n10:15 to 11:30am - LEADERSHIP - Presented by: Jessika Ferm\, J. Ferm\n\nIn this interactive session attendees will discover a new style of leadership that has emerged in the new economy and learn the techniques and skills needed to guide a successful organization.\n\n\n\nFor more information and registration please visit: www.ColumbusBusinessFirst.com/event/20291
X-ALT-DESC;FMTTYPE=text/html:We've all had to adjust our business--possibly reinvent our business-- to accommodate the dramatic shift in our economy in the past year and a half. Some have found new opportunities\; some have created new opportunities. Many are restructuring and learning to do more with less. One thing is for sure\, everyone is approaching business with more scrutiny and focus than in recent years.\n<br>\n<br>In this four-part seminar series\, expert presenters will explain what the new economy is and how it affects business in Central Ohio. We'll take it a step farther with sessions on trends and opportunities and then help you develop a strategy and adapt your leadership style to better position your company for success.\n<br>\n<br>April 29\n<br>8:45 to 10:00am - STRATEGY - Presented by: Brian Newberry\, Northlich\n<br>The game has changed and savvy business people know that what worked in the past won't get the same results in 2010 and beyond. This workshop will help attendees identify and create effective strategies for success in the new economy.\n<br>\n<br>10:15 to 11:30am - LEADERSHIP - Presented by: Jessika Ferm\, J. Ferm\n<br>In this interactive session attendees will discover a new style of leadership that has emerged in the new economy and learn the techniques and skills needed to guide a successful organization.\n<br>\n<br>For more information and registration please visit: www.ColumbusBusinessFirst.com/event/20291\n<br>
LOCATION:Conference Center at OCLC 6600 Kilgour Pl.\, Dublin\, OH 43017\, Dublin\, OH 43017
UID:e.304.634
SEQUENCE:3
DTSTAMP:20260421T072250Z
URL:https://cm.newalbanychamber.com/events/details/new-economy-seminar-series-april-29-04-29-2010-634
END:VEVENT

END:VCALENDAR
