BEGIN:VCALENDAR
VERSION:2.0
PRODID:-//ChamberMaster//Event Calendar 2.0//EN
METHOD:PUBLISH
X-PUBLISHED-TTL:P3D
REFRESH-INTERVAL:P3D
CALSCALE:GREGORIAN
BEGIN:VEVENT
DTSTART:20081019T170000Z
DTEND:20081019T200000Z
X-MICROSOFT-CDO-ALLDAYEVENT:FALSE
SUMMARY:New Home Tour
DESCRIPTION:New Home TourSponsored by the New Albany RealtyMore than 30 premier New Albany homes will open their doors.Join us to view\, firsthand\, the variety and range classic Georgian architecture offers.
X-ALT-DESC;FMTTYPE=text/html:<div>New Home Tour</div><div>Sponsored by the New Albany Realty</div><div>More than 30 premier New Albany homes will open their doors.</div><div>Join us to view\, firsthand\, the variety and range classic Georgian architecture offers.</div>
LOCATION:220 Market StreetSuite DStop by the Sales Office and pick up a map and list of homes.
UID:e.304.326
SEQUENCE:3
DTSTAMP:20260422T101929Z
URL:https://cm.newalbanychamber.com/events/details/new-home-tour-10-19-2008-326
END:VEVENT

END:VCALENDAR
