BEGIN:VCALENDAR
VERSION:2.0
PRODID:-//ChamberMaster//Event Calendar 2.0//EN
METHOD:PUBLISH
X-PUBLISHED-TTL:P3D
REFRESH-INTERVAL:P3D
CALSCALE:GREGORIAN
BEGIN:VEVENT
DTSTART;VALUE=DATE:20080921
DTEND;VALUE=DATE:20080922
TRANSP:TRANSPARENT
X-MICROSOFT-CDO-ALLDAYEVENT:TRUE
SUMMARY:New Member Buckeye Bash
DESCRIPTION:Members new and old to the New Albany Women's Network\, please join us for a "Buckeye Bash" at the residence of Piper Wright\, 7080 Maynard Place. This is a welcome to the New Members of NAWN on Sunday\, September 21\, from 6:30pm until 8:30pm. This is a casual event. Please bring a dish to share in support of our OSU Buckeyes this Fall. Iced tea and water will be provided. RSVP to membership@NAWN.org or Vicki Damiani at 614.204.2486.
X-ALT-DESC;FMTTYPE=text/html:<div>Members new and old to the New Albany Women's Network\, please join us for a &quot\;Buckeye Bash&quot\; at the residence of Piper Wright\, 7080 Maynard Place. This is a welcome to the New Members of NAWN on Sunday\, September 21\, from 6:30pm until 8:30pm. This is a casual event. Please bring a dish to share in support of our OSU Buckeyes this Fall. Iced tea and water will be provided. RSVP to <a href="mailto:membership@NAWN.org">membership@NAWN.org</a> or Vicki Damiani at 614.204.2486.</div>
LOCATION:
UID:e.304.311
SEQUENCE:3
DTSTAMP:20260422T114732Z
URL:https://cm.newalbanychamber.com/events/details/new-member-buckeye-bash-09-21-2008-311
END:VEVENT

END:VCALENDAR
