BEGIN:VCALENDAR
VERSION:2.0
PRODID:-//ChamberMaster//Event Calendar 2.0//EN
METHOD:PUBLISH
X-PUBLISHED-TTL:P3D
REFRESH-INTERVAL:P3D
CALSCALE:GREGORIAN
BEGIN:VEVENT
DTSTART:20080123T170000Z
DTEND:20080123T180000Z
X-MICROSOFT-CDO-ALLDAYEVENT:FALSE
SUMMARY:New Member Orientation
DESCRIPTION:New Member Orientation.  Come and find out how to maximize your membership and benefits for your business.
X-ALT-DESC;FMTTYPE=text/html:<div>New Member Orientation.&nbsp\; Come and find out how to maximize your membership and benefits for your business.</div>
LOCATION:
UID:e.304.3
SEQUENCE:3
DTSTAMP:20260424T105019Z
URL:https://cm.newalbanychamber.com/events/details/new-member-orientation-01-23-2008-3
END:VEVENT

END:VCALENDAR
