BEGIN:VCALENDAR
VERSION:2.0
PRODID:-//ChamberMaster//Event Calendar 2.0//EN
METHOD:PUBLISH
X-PUBLISHED-TTL:P3D
REFRESH-INTERVAL:P3D
CALSCALE:GREGORIAN
BEGIN:VEVENT
DTSTART:20110518T160000Z
DTEND:20110518T170000Z
X-MICROSOFT-CDO-ALLDAYEVENT:FALSE
SUMMARY:New Member Orientation
DESCRIPTION:New Member Orientation at the Chamber office    \n\n\n\nJoin us to learn how to maximize your benefits of your chamber membership.\n\nLearn about advertising specials\, How to reach members and residents.\n\nNew Member Benefits and why to attend the monthly luncheons.
X-ALT-DESC;FMTTYPE=text/html:<span style="font-size: 14px"><strong>New Member Orientation at the Chamber office&nbsp\;&nbsp\;&nbsp\;&nbsp\;</strong></span><br />\n<br />\n<strong>Join us to learn how to maximize your benefits of your chamber membership.<br />\nLearn about advertising specials\, How to reach members and residents.<br />\nNew Member Benefits and why to attend the monthly luncheons.</strong>
LOCATION:Chamber Office 220 Market Street\, Suite 204 2nd floor above Starbucks. RSVP to 614-855-4400.
UID:e.304.800
SEQUENCE:3
DTSTAMP:20260420T101223Z
URL:https://cm.newalbanychamber.com/events/details/new-member-orientation-05-18-2011-800
END:VEVENT

END:VCALENDAR
