BEGIN:VCALENDAR
VERSION:2.0
PRODID:-//ChamberMaster//Event Calendar 2.0//EN
METHOD:PUBLISH
X-PUBLISHED-TTL:P3D
REFRESH-INTERVAL:P3D
CALSCALE:GREGORIAN
BEGIN:VEVENT
DTSTART:20090211T170000Z
DTEND:20090211T180000Z
X-MICROSOFT-CDO-ALLDAYEVENT:FALSE
SUMMARY:New Member Orientation Meeting
DESCRIPTION:New Member Orientation Meeting.  We want to make sure you are getting the most value from your membership.  Please join us to help you maximize your benefits.
X-ALT-DESC;FMTTYPE=text/html:<p>New Member Orientation Meeting.&nbsp\; We want to make sure you are getting the most value from your membership.&nbsp\; Please join us to help you maximize your benefits.</p>
LOCATION:Chamber Office220 Market Street\, Suite 204New Albany
UID:e.304.415
SEQUENCE:3
DTSTAMP:20260422T040728Z
URL:https://cm.newalbanychamber.com/events/details/new-member-orientation-meeting-02-11-2009-415
END:VEVENT

END:VCALENDAR
