BEGIN:VCALENDAR
VERSION:2.0
PRODID:-//ChamberMaster//Event Calendar 2.0//EN
METHOD:PUBLISH
X-PUBLISHED-TTL:P3D
REFRESH-INTERVAL:P3D
CALSCALE:GREGORIAN
BEGIN:VEVENT
DTSTART;VALUE=DATE:20090228
DTEND;VALUE=DATE:20090301
TRANSP:TRANSPARENT
X-MICROSOFT-CDO-ALLDAYEVENT:TRUE
SUMMARY:New Toastmaster Club in New Albany....Second Meeting!
DESCRIPTION:The Kick-Off Meeting was a success!  The Demonstration meeting was well received and we had 12 people interested in starting a new club\, and numerous others interested who could not make it!  Our second meeting will be held at the First Church of the Nazarene until we can find a place to host us  weekly!  Don't miss this opportunity to become Honorary Charter Members of the New Toastmaster Club in New Albany!
X-ALT-DESC;FMTTYPE=text/html:The Kick-Off Meeting was a success!  The Demonstration meeting was well received and we had 12 people interested in starting a new club\, and numerous others interested who could not make it!  Our second meeting will be held at the First Church of the Nazarene until we can find a place to host us  weekly!  Don't miss this opportunity to become Honorary Charter Members of the New Toastmaster Club in New Albany!
LOCATION:New Albany First Church of the Nazarene\, 6000 Johnstown Rd.\, New Albany\, OH 43054
UID:e.304.428
SEQUENCE:3
DTSTAMP:20260422T041041Z
URL:https://cm.newalbanychamber.com/events/details/new-toastmaster-club-in-new-albany-second-meeting-02-28-2009-428
END:VEVENT

END:VCALENDAR
