BEGIN:VCALENDAR
VERSION:2.0
PRODID:-//ChamberMaster//Event Calendar 2.0//EN
METHOD:PUBLISH
X-PUBLISHED-TTL:P3D
REFRESH-INTERVAL:P3D
CALSCALE:GREGORIAN
BEGIN:VEVENT
DTSTART:20101031T190000Z
DTEND:20101031T210000Z
X-MICROSOFT-CDO-ALLDAYEVENT:FALSE
SUMMARY:Night Moves
DESCRIPTION:Seasonal tunes & Songs that go bump in the night! Featuring the New Albany Community Band\, New Albany Chorus\, New Albany High School A Cappella Choir\, Dancers Garrett White & Kris Ross-Wilcox and Dr. Phill Wilson as Master of Ceremonies.
X-ALT-DESC;FMTTYPE=text/html:Seasonal tunes &amp\; Songs that go bump in the night! Featuring the New Albany Community Band\, New Albany Chorus\, New Albany High School A Cappella Choir\, Dancers Garrett White &amp\; Kris Ross-Wilcox and Dr. Phill Wilson as Master of Ceremonies.
LOCATION:McCoy Center for the Arts
UID:e.304.716
SEQUENCE:3
DTSTAMP:20260420T225114Z
URL:https://cm.newalbanychamber.com/events/details/night-moves-10-31-2010-716
END:VEVENT

END:VCALENDAR
